BEGIN:VCALENDAR
VERSION:2.0
PRODID:-//Ponte Adriatico - ECPv6.2.3//NONSGML v1.0//EN
CALSCALE:GREGORIAN
METHOD:PUBLISH
X-ORIGINAL-URL:https://latuaimpresainalbania.com
X-WR-CALDESC:Events for Ponte Adriatico
REFRESH-INTERVAL;VALUE=DURATION:PT1H
X-Robots-Tag:noindex
X-PUBLISHED-TTL:PT1H
BEGIN:VTIMEZONE
TZID:UTC
BEGIN:STANDARD
TZOFFSETFROM:+0000
TZOFFSETTO:+0000
TZNAME:UTC
DTSTART:20230101T000000
END:STANDARD
END:VTIMEZONE
BEGIN:VEVENT
DTSTART;TZID=UTC:20231110T153000
DTEND;TZID=UTC:20231110T200000
DTSTAMP:20260422T101745
CREATED:20210317T033032Z
LAST-MODIFIED:20231006T104510Z
UID:515-1699630200-1699646400@latuaimpresainalbania.com
SUMMARY:La cosmesi Italiana nei Balcani
DESCRIPTION:Quello cosmetico è un settore particolarmente rilevante a livello globale e riveste diversi ruoli cruciali nell’economia\, nella società e nella cultura contemporanea. In Albania\, si tratta di un ambito di investimento particolarmente fruttuoso. Sono sempre di più le persone che e utilizzano prodotti cosmetici per migliorare la loro autostima\, sentirsi più sicure e affrontare il mondo con maggiore fiducia. Un esercizio che può influire positivamente sulla salute mentale e sul benessere individuale. Non a caso\, la cosmesi rappresenta un segmento economicamente significativo e le vendite di prodotti cosmetici\, che includono trucco\, prodotti per la cura della pelle\, prodotti per capelli\, fragranze e molto altro\, generano moltissime entrate ogni anno\, oltre a generare occupazione per molte persone\, dalle aziende di produzione alle vendite al dettaglio.
URL:https://latuaimpresainalbania.com/event/la-cosmesi-italiana-nei-balcani/
LOCATION:Hotel Mondial\, Via Muhamet Gjollesha\, Tirana\, 1023\, Albania
CATEGORIES:Eventi
ATTACH;FMTTYPE=image/jpeg:https://latuaimpresainalbania.com/wp-content/uploads/2021/03/La-cosmesi-italiana-nei-balcani-min.jpg
ORGANIZER;CN="Ponte Adriatico":MAILTO:info@ponteadriatico.it
END:VEVENT
END:VCALENDAR